BEGIN:VCALENDAR
VERSION:2.0
PRODID:-//Rowing Australia - ECPv4.8.1//NONSGML v1.0//EN
CALSCALE:GREGORIAN
METHOD:PUBLISH
X-WR-CALNAME:Rowing Australia
X-ORIGINAL-URL:https://rowingaustralia.com.au
X-WR-CALDESC:Events for Rowing Australia
BEGIN:VEVENT
DTSTART;VALUE=DATE:20190325
DTEND;VALUE=DATE:20190401
DTSTAMP:20190227T182138
CREATED:20180423T023206Z
LAST-MODIFIED:20190213T225727Z
UID:18263-1553472000-1554076799@rowingaustralia.com.au
SUMMARY:2019 Sydney International Rowing Regatta
DESCRIPTION:
URL:https://rowingaustralia.com.au/event/2019-sydney-international-rowing-regatta/
LOCATION:Sydney International Regatta Centre\, Old Castlereagh Road\, Penrith\, New South Wales\, 2749\, Australia
GEO:-33.7282227;150.6811351
X-APPLE-STRUCTURED-LOCATION;VALUE=URI;X-ADDRESS=Sydney International Regatta Centre Old Castlereagh Road Penrith New South Wales 2749 Australia;X-APPLE-RADIUS=500;X-TITLE=Old Castlereagh Road:geo:150.6811351,-33.7282227
ORGANIZER;CN="Rowing%20Australia":MAILTO:aevans@rowingaustralia.com.au
END:VEVENT
BEGIN:VEVENT
DTSTART;VALUE=DATE:20190409
DTEND;VALUE=DATE:20190417
DTSTAMP:20190227T182138
CREATED:20181213T000509Z
LAST-MODIFIED:20181213T001324Z
UID:20532-1554768000-1555459199@rowingaustralia.com.au
SUMMARY:56th FISA World Coastal Rowing Tour
DESCRIPTION:Invitation and Information \nEntry Form \n  \n  \n
URL:https://rowingaustralia.com.au/event/56th-fisa-world-coastal-rowing-tour/
LOCATION:New Zealand\, New South Wales
ORGANIZER;CN="World%20Rowing":MAILTO:info@fisa.org
END:VEVENT
BEGIN:VEVENT
DTSTART;VALUE=DATE:20190510
DTEND;VALUE=DATE:20190513
DTSTAMP:20190227T182138
CREATED:20180917T054411Z
LAST-MODIFIED:20180917T054411Z
UID:20012-1557446400-1557705599@rowingaustralia.com.au
SUMMARY:2019 World Rowing Cup 1
DESCRIPTION:
URL:https://rowingaustralia.com.au/event/2019-world-rowing-cup-1/
LOCATION:Plovdiv\, 9\, Georgi Tringov str\, Plovdiv\, New South Wales\, 4003\, Bulgaria
GEO:42.170433;24.749751
X-APPLE-STRUCTURED-LOCATION;VALUE=URI;X-ADDRESS=Plovdiv 9 Georgi Tringov str Plovdiv New South Wales 4003 Bulgaria;X-APPLE-RADIUS=500;X-TITLE=9\, Georgi Tringov str:geo:24.749751,42.170433
END:VEVENT
BEGIN:VEVENT
DTSTART;VALUE=DATE:20190522
DTEND;VALUE=DATE:20190526
DTSTAMP:20190227T182138
CREATED:20180716T055610Z
LAST-MODIFIED:20181015T052536Z
UID:19147-1558483200-1558828799@rowingaustralia.com.au
SUMMARY:2019 Australian Masters Rowing Championships
DESCRIPTION: \n
URL:https://rowingaustralia.com.au/event/2019-australian-masters-rowing-championships/
LOCATION:Champion Lakes\, 100 Lake Road\, Champion Lakes\, Western Australia\, 6111\, Australia
GEO:-32.1041668;116.0050162
X-APPLE-STRUCTURED-LOCATION;VALUE=URI;X-ADDRESS=Champion Lakes 100 Lake Road Champion Lakes Western Australia 6111 Australia;X-APPLE-RADIUS=500;X-TITLE=100 Lake Road:geo:116.0050162,-32.1041668
ORGANIZER;CN="Rowing%20WA":MAILTO:admin@rowingwa.asn.au
END:VEVENT
BEGIN:VEVENT
DTSTART;VALUE=DATE:20190621
DTEND;VALUE=DATE:20190624
DTSTAMP:20190227T182138
CREATED:20180917T054543Z
LAST-MODIFIED:20180917T054543Z
UID:20014-1561075200-1561334399@rowingaustralia.com.au
SUMMARY:2019 World Rowing Cup 2
DESCRIPTION:
URL:https://rowingaustralia.com.au/event/2019-world-rowing-cup-2/
LOCATION:Lake Malta\, Poznan\, New South Wales\, Poland
GEO:52.400347;16.969888
END:VEVENT
BEGIN:VEVENT
DTSTART;VALUE=DATE:20190703
DTEND;VALUE=DATE:20190704
DTSTAMP:20190227T182138
CREATED:20180917T055135Z
LAST-MODIFIED:20180917T055135Z
UID:20019-1562112000-1562112000@rowingaustralia.com.au
SUMMARY:2019 Henley Royal Regatta
DESCRIPTION:
URL:https://rowingaustralia.com.au/event/2019-henley-royal-regatta/
LOCATION:Henley on Thames\, Henley on Thames\, Oxfordshire\, New South Wales\, United Kingdom
GEO:51.535764;-0.902894
X-APPLE-STRUCTURED-LOCATION;VALUE=URI;X-ADDRESS=Henley on Thames Henley on Thames Oxfordshire New South Wales United Kingdom;X-APPLE-RADIUS=500;X-TITLE=Henley on Thames:geo:-0.902894,51.535764
END:VEVENT
BEGIN:VEVENT
DTSTART;VALUE=DATE:20190712
DTEND;VALUE=DATE:20190713
DTSTAMP:20190227T182138
CREATED:20180917T054847Z
LAST-MODIFIED:20180917T054847Z
UID:20017-1562889600-1562889600@rowingaustralia.com.au
SUMMARY:2019 World Rowing Cup 3
DESCRIPTION:
URL:https://rowingaustralia.com.au/event/2019-world-rowing-cup-3/
LOCATION:Rotterdam\, Rotterdam\, New South Wales\, Netherlands
END:VEVENT
BEGIN:VEVENT
DTSTART;VALUE=DATE:20190724
DTEND;VALUE=DATE:20190729
DTSTAMP:20190227T182138
CREATED:20180917T055254Z
LAST-MODIFIED:20180917T055254Z
UID:20021-1563926400-1564358399@rowingaustralia.com.au
SUMMARY:2019 World Rowing Under 23 Championships
DESCRIPTION:
URL:https://rowingaustralia.com.au/event/2019-world-rowing-under-23-championships/
LOCATION:Sarasota-Bradenton\, FL\, United States
GEO:27.6648274;-81.5157535
END:VEVENT
BEGIN:VEVENT
DTSTART;VALUE=DATE:20190807
DTEND;VALUE=DATE:20190812
DTSTAMP:20190227T182138
CREATED:20180917T055720Z
LAST-MODIFIED:20180917T055746Z
UID:20023-1565136000-1565567999@rowingaustralia.com.au
SUMMARY:2019 World Rowing Junior Championships
DESCRIPTION:
URL:https://rowingaustralia.com.au/event/2019-world-rowing-junior-championships/
LOCATION:Tokyo\, Japan\, Sea Forest Waterway\, Tokyo\, New South Wales\, Japan
END:VEVENT
BEGIN:VEVENT
DTSTART;VALUE=DATE:20190825
DTEND;VALUE=DATE:20190901
DTSTAMP:20190227T182138
CREATED:20180917T055914Z
LAST-MODIFIED:20180917T055914Z
UID:20026-1566691200-1567295999@rowingaustralia.com.au
SUMMARY:2019 World Rowing Championships
DESCRIPTION:
URL:https://rowingaustralia.com.au/event/2019-world-rowing-championships/
LOCATION:Linz\, Ottensheim\, Austria\, New South Wales\, Austria
GEO:47.516231;14.550072
END:VEVENT
BEGIN:VEVENT
DTSTART;VALUE=DATE:20190911
DTEND;VALUE=DATE:20190916
DTSTAMP:20190227T182138
CREATED:20180917T060521Z
LAST-MODIFIED:20180917T060521Z
UID:20028-1568160000-1568591999@rowingaustralia.com.au
SUMMARY:2019 World Rowing Masters Regatta
DESCRIPTION:
URL:https://rowingaustralia.com.au/event/2019-world-rowing-masters-regatta/
LOCATION:Lake Velence\, Valencei\, New South Wales\, Hungary
GEO:47.2300924;18.6506424
END:VEVENT
END:VCALENDAR